BEGIN:VCALENDAR
VERSION:2.0
PRODID:-//Clearview Flying Club - ECPv6.15.20//NONSGML v1.0//EN
CALSCALE:GREGORIAN
METHOD:PUBLISH
X-WR-CALNAME:Clearview Flying Club
X-ORIGINAL-URL:https://clearviewflyingclub.com
X-WR-CALDESC:Events for Clearview Flying Club
REFRESH-INTERVAL;VALUE=DURATION:PT1H
X-Robots-Tag:noindex
X-PUBLISHED-TTL:PT1H
BEGIN:VTIMEZONE
TZID:America/New_York
BEGIN:DAYLIGHT
TZOFFSETFROM:-0500
TZOFFSETTO:-0400
TZNAME:EDT
DTSTART:20220313T070000
END:DAYLIGHT
BEGIN:STANDARD
TZOFFSETFROM:-0400
TZOFFSETTO:-0500
TZNAME:EST
DTSTART:20221106T060000
END:STANDARD
BEGIN:DAYLIGHT
TZOFFSETFROM:-0500
TZOFFSETTO:-0400
TZNAME:EDT
DTSTART:20230312T070000
END:DAYLIGHT
BEGIN:STANDARD
TZOFFSETFROM:-0400
TZOFFSETTO:-0500
TZNAME:EST
DTSTART:20231105T060000
END:STANDARD
BEGIN:DAYLIGHT
TZOFFSETFROM:-0500
TZOFFSETTO:-0400
TZNAME:EDT
DTSTART:20240310T070000
END:DAYLIGHT
BEGIN:STANDARD
TZOFFSETFROM:-0400
TZOFFSETTO:-0500
TZNAME:EST
DTSTART:20241103T060000
END:STANDARD
END:VTIMEZONE
BEGIN:VEVENT
DTSTART;TZID=America/New_York:20231015T150000
DTEND;TZID=America/New_York:20231015T163000
DTSTAMP:20260423T170134
CREATED:20230319T190000Z
LAST-MODIFIED:20230317T032104Z
UID:10000270-1697382000-1697387400@clearviewflyingclub.com
SUMMARY:Monthly Club Meeting
DESCRIPTION:
URL:https://clearviewflyingclub.com/event/monthly-club-meeting/2023-10-15/
LOCATION:Clearview Airport (2W2)\, 526 Oak Tree Road\, Westminster\, MD\, 21157\, United States
ATTACH;FMTTYPE=image/jpeg:https://clearviewflyingclub.com/wp-content/uploads/2023/03/89023254_2494976877418185_8097745388716425216_n.jpg
ORGANIZER;CN="Walter Tegeler":MAILTO:tegmonument1@aol.com
GEO:N39°28.02';W77°1.05'
X-APPLE-STRUCTURED-LOCATION;VALUE=URI;X-ADDRESS=Clearview Airport (2W2) 526 Oak Tree Road Westminster MD 21157 United States;X-APPLE-RADIUS=500;X-TITLE=526 Oak Tree Road:geo:W77°1.05',N39°28.02'
END:VEVENT
BEGIN:VEVENT
DTSTART;TZID=America/New_York:20230917T150000
DTEND;TZID=America/New_York:20230917T163000
DTSTAMP:20260423T170135
CREATED:20230319T190000Z
LAST-MODIFIED:20230317T032104Z
UID:10000269-1694962800-1694968200@clearviewflyingclub.com
SUMMARY:Monthly Club Meeting
DESCRIPTION:
URL:https://clearviewflyingclub.com/event/monthly-club-meeting/2023-09-17/
LOCATION:Clearview Airport (2W2)\, 526 Oak Tree Road\, Westminster\, MD\, 21157\, United States
ATTACH;FMTTYPE=image/jpeg:https://clearviewflyingclub.com/wp-content/uploads/2023/03/89023254_2494976877418185_8097745388716425216_n.jpg
ORGANIZER;CN="Walter Tegeler":MAILTO:tegmonument1@aol.com
GEO:N39°28.02';W77°1.05'
X-APPLE-STRUCTURED-LOCATION;VALUE=URI;X-ADDRESS=Clearview Airport (2W2) 526 Oak Tree Road Westminster MD 21157 United States;X-APPLE-RADIUS=500;X-TITLE=526 Oak Tree Road:geo:W77°1.05',N39°28.02'
END:VEVENT
BEGIN:VEVENT
DTSTART;TZID=America/New_York:20230909T120000
DTEND;TZID=America/New_York:20230909T170000
DTSTAMP:20260423T170135
CREATED:20230807T142119Z
LAST-MODIFIED:20230807T142119Z
UID:10000391-1694260800-1694278800@clearviewflyingclub.com
SUMMARY:Annual Fly-In\, Drive-In & Picnic
DESCRIPTION:[vc_row][vc_column][vc_column_text css=”.vc_custom_1691418070723{padding-bottom: 30px !important;}”]Join the Clearview Flying Club at Clearview Airport in Westminster\, MD for an afternoon of FUN\, FOOD\, and FLYING! \nHere’s a great video from last year’s event.[/vc_column_text][vc_video link=”https://www.youtube.com/watch?v=yIG47_gHMU8&ab_channel=ClearviewFlyingClub” align=”center”][/vc_column][/vc_row]
URL:https://clearviewflyingclub.com/event/annual-fly-in-picnic-2023/
LOCATION:Clearview Airport (2W2)\, 526 Oak Tree Road\, Westminster\, MD\, 21157\, United States
ATTACH;FMTTYPE=image/png:https://clearviewflyingclub.com/wp-content/uploads/2023/08/FlyIn2022Snip.png
ORGANIZER;CN="Walter Tegeler":MAILTO:tegmonument1@aol.com
GEO:N39°28.02';W77°1.05'
X-APPLE-STRUCTURED-LOCATION;VALUE=URI;X-ADDRESS=Clearview Airport (2W2) 526 Oak Tree Road Westminster MD 21157 United States;X-APPLE-RADIUS=500;X-TITLE=526 Oak Tree Road:geo:W77°1.05',N39°28.02'
END:VEVENT
BEGIN:VEVENT
DTSTART;TZID=America/New_York:20230820T150000
DTEND;TZID=America/New_York:20230820T163000
DTSTAMP:20260423T170135
CREATED:20230319T190000Z
LAST-MODIFIED:20230317T032104Z
UID:10000268-1692543600-1692549000@clearviewflyingclub.com
SUMMARY:Monthly Club Meeting
DESCRIPTION:
URL:https://clearviewflyingclub.com/event/monthly-club-meeting/2023-08-20/
LOCATION:Clearview Airport (2W2)\, 526 Oak Tree Road\, Westminster\, MD\, 21157\, United States
ATTACH;FMTTYPE=image/jpeg:https://clearviewflyingclub.com/wp-content/uploads/2023/03/89023254_2494976877418185_8097745388716425216_n.jpg
ORGANIZER;CN="Walter Tegeler":MAILTO:tegmonument1@aol.com
GEO:N39°28.02';W77°1.05'
X-APPLE-STRUCTURED-LOCATION;VALUE=URI;X-ADDRESS=Clearview Airport (2W2) 526 Oak Tree Road Westminster MD 21157 United States;X-APPLE-RADIUS=500;X-TITLE=526 Oak Tree Road:geo:W77°1.05',N39°28.02'
END:VEVENT
BEGIN:VEVENT
DTSTART;TZID=America/New_York:20230716T150000
DTEND;TZID=America/New_York:20230716T163000
DTSTAMP:20260423T170135
CREATED:20230319T190000Z
LAST-MODIFIED:20230317T032104Z
UID:10000267-1689519600-1689525000@clearviewflyingclub.com
SUMMARY:Monthly Club Meeting
DESCRIPTION:
URL:https://clearviewflyingclub.com/event/monthly-club-meeting/2023-07-16/
LOCATION:Clearview Airport (2W2)\, 526 Oak Tree Road\, Westminster\, MD\, 21157\, United States
ATTACH;FMTTYPE=image/jpeg:https://clearviewflyingclub.com/wp-content/uploads/2023/03/89023254_2494976877418185_8097745388716425216_n.jpg
ORGANIZER;CN="Walter Tegeler":MAILTO:tegmonument1@aol.com
GEO:N39°28.02';W77°1.05'
X-APPLE-STRUCTURED-LOCATION;VALUE=URI;X-ADDRESS=Clearview Airport (2W2) 526 Oak Tree Road Westminster MD 21157 United States;X-APPLE-RADIUS=500;X-TITLE=526 Oak Tree Road:geo:W77°1.05',N39°28.02'
END:VEVENT
BEGIN:VEVENT
DTSTART;TZID=America/New_York:20230618T150000
DTEND;TZID=America/New_York:20230618T163000
DTSTAMP:20260423T170135
CREATED:20230319T190000Z
LAST-MODIFIED:20230317T032104Z
UID:10000266-1687100400-1687105800@clearviewflyingclub.com
SUMMARY:Monthly Club Meeting
DESCRIPTION:
URL:https://clearviewflyingclub.com/event/monthly-club-meeting/2023-06-18/
LOCATION:Clearview Airport (2W2)\, 526 Oak Tree Road\, Westminster\, MD\, 21157\, United States
ATTACH;FMTTYPE=image/jpeg:https://clearviewflyingclub.com/wp-content/uploads/2023/03/89023254_2494976877418185_8097745388716425216_n.jpg
ORGANIZER;CN="Walter Tegeler":MAILTO:tegmonument1@aol.com
GEO:N39°28.02';W77°1.05'
X-APPLE-STRUCTURED-LOCATION;VALUE=URI;X-ADDRESS=Clearview Airport (2W2) 526 Oak Tree Road Westminster MD 21157 United States;X-APPLE-RADIUS=500;X-TITLE=526 Oak Tree Road:geo:W77°1.05',N39°28.02'
END:VEVENT
BEGIN:VEVENT
DTSTART;TZID=America/New_York:20230521T150000
DTEND;TZID=America/New_York:20230521T163000
DTSTAMP:20260423T170135
CREATED:20230319T190000Z
LAST-MODIFIED:20230317T032104Z
UID:10000265-1684681200-1684686600@clearviewflyingclub.com
SUMMARY:Monthly Club Meeting
DESCRIPTION:
URL:https://clearviewflyingclub.com/event/monthly-club-meeting/2023-05-21/
LOCATION:Clearview Airport (2W2)\, 526 Oak Tree Road\, Westminster\, MD\, 21157\, United States
ATTACH;FMTTYPE=image/jpeg:https://clearviewflyingclub.com/wp-content/uploads/2023/03/89023254_2494976877418185_8097745388716425216_n.jpg
ORGANIZER;CN="Walter Tegeler":MAILTO:tegmonument1@aol.com
GEO:N39°28.02';W77°1.05'
X-APPLE-STRUCTURED-LOCATION;VALUE=URI;X-ADDRESS=Clearview Airport (2W2) 526 Oak Tree Road Westminster MD 21157 United States;X-APPLE-RADIUS=500;X-TITLE=526 Oak Tree Road:geo:W77°1.05',N39°28.02'
END:VEVENT
BEGIN:VEVENT
DTSTART;TZID=America/New_York:20230416T150000
DTEND;TZID=America/New_York:20230416T163000
DTSTAMP:20260423T170135
CREATED:20230319T190000Z
LAST-MODIFIED:20230317T032104Z
UID:10000264-1681657200-1681662600@clearviewflyingclub.com
SUMMARY:Monthly Club Meeting
DESCRIPTION:
URL:https://clearviewflyingclub.com/event/monthly-club-meeting/2023-04-16/
LOCATION:Clearview Airport (2W2)\, 526 Oak Tree Road\, Westminster\, MD\, 21157\, United States
ATTACH;FMTTYPE=image/jpeg:https://clearviewflyingclub.com/wp-content/uploads/2023/03/89023254_2494976877418185_8097745388716425216_n.jpg
ORGANIZER;CN="Walter Tegeler":MAILTO:tegmonument1@aol.com
GEO:N39°28.02';W77°1.05'
X-APPLE-STRUCTURED-LOCATION;VALUE=URI;X-ADDRESS=Clearview Airport (2W2) 526 Oak Tree Road Westminster MD 21157 United States;X-APPLE-RADIUS=500;X-TITLE=526 Oak Tree Road:geo:W77°1.05',N39°28.02'
END:VEVENT
BEGIN:VEVENT
DTSTART;TZID=America/New_York:20230319T150000
DTEND;TZID=America/New_York:20230319T163000
DTSTAMP:20260423T170135
CREATED:20230319T190000Z
LAST-MODIFIED:20230317T032104Z
UID:10000263-1679238000-1679243400@clearviewflyingclub.com
SUMMARY:Monthly Club Meeting
DESCRIPTION:
URL:https://clearviewflyingclub.com/event/monthly-club-meeting/2023-03-19/
LOCATION:Clearview Airport (2W2)\, 526 Oak Tree Road\, Westminster\, MD\, 21157\, United States
ATTACH;FMTTYPE=image/jpeg:https://clearviewflyingclub.com/wp-content/uploads/2023/03/89023254_2494976877418185_8097745388716425216_n.jpg
ORGANIZER;CN="Walter Tegeler":MAILTO:tegmonument1@aol.com
GEO:N39°28.02';W77°1.05'
X-APPLE-STRUCTURED-LOCATION;VALUE=URI;X-ADDRESS=Clearview Airport (2W2) 526 Oak Tree Road Westminster MD 21157 United States;X-APPLE-RADIUS=500;X-TITLE=526 Oak Tree Road:geo:W77°1.05',N39°28.02'
END:VEVENT
END:VCALENDAR